Package: rprimer Version: 1.4.0 Command: /home/biocbuild/bbs-3.17-bioc/R/bin/R CMD build --keep-empty-dirs --no-resave-data rprimer StartedAt: 2023-10-15 18:17:44 -0400 (Sun, 15 Oct 2023) EndedAt: 2023-10-15 18:18:45 -0400 (Sun, 15 Oct 2023) EllapsedTime: 61.3 seconds RetCode: 0 Status: OK PackageFile: rprimer_1.4.0.tar.gz PackageFileSize: 3.116 MiB