Package: rnaseqcomp Version: 1.30.0 Command: /home/biocbuild/bbs-3.17-bioc/R/bin/R CMD INSTALL rnaseqcomp StartedAt: 2023-10-15 15:46:36 -0400 (Sun, 15 Oct 2023) EndedAt: 2023-10-15 15:46:39 -0400 (Sun, 15 Oct 2023) EllapsedTime: 3.4 seconds RetCode: 0 Status: OK