Package: rnaseqcomp Version: 1.30.0 Command: /Library/Frameworks/R.framework/Resources/bin/R CMD build --keep-empty-dirs --no-resave-data rnaseqcomp StartedAt: 2023-10-15 20:47:19 -0400 (Sun, 15 Oct 2023) EndedAt: 2023-10-15 20:47:59 -0400 (Sun, 15 Oct 2023) EllapsedTime: 40.8 seconds RetCode: 0 Status: OK PackageFile: rnaseqcomp_1.30.0.tar.gz PackageFileSize: 1.493 MiB