Package: rnaEditr Version: 1.10.0 Command: /home/biocbuild/bbs-3.17-bioc/R/bin/R CMD INSTALL rnaEditr StartedAt: 2023-10-15 15:37:19 -0400 (Sun, 15 Oct 2023) EndedAt: 2023-10-15 15:37:56 -0400 (Sun, 15 Oct 2023) EllapsedTime: 36.8 seconds RetCode: 0 Status: OK