Package: ribosomeProfilingQC Version: 1.12.0 Command: /home/biocbuild/bbs-3.17-bioc/R/bin/R CMD INSTALL ribosomeProfilingQC StartedAt: 2023-10-15 15:28:12 -0400 (Sun, 15 Oct 2023) EndedAt: 2023-10-15 15:29:04 -0400 (Sun, 15 Oct 2023) EllapsedTime: 51.7 seconds RetCode: 0 Status: OK