Package: qusage Version: 2.34.0 Command: /home/biocbuild/bbs-3.17-bioc/R/bin/R CMD INSTALL qusage StartedAt: 2023-10-15 15:13:01 -0400 (Sun, 15 Oct 2023) EndedAt: 2023-10-15 15:13:10 -0400 (Sun, 15 Oct 2023) EllapsedTime: 8.8 seconds RetCode: 0 Status: OK