Package: qmtools Version: 1.4.0 Command: /home/biocbuild/bbs-3.17-bioc/R/bin/R CMD build --keep-empty-dirs --no-resave-data qmtools StartedAt: 2023-10-15 18:03:53 -0400 (Sun, 15 Oct 2023) EndedAt: 2023-10-15 18:04:40 -0400 (Sun, 15 Oct 2023) EllapsedTime: 46.1 seconds RetCode: 0 Status: OK PackageFile: qmtools_1.4.0.tar.gz PackageFileSize: 1.26 MiB