Package: profileScoreDist Version: 1.28.0 Command: /home/biocbuild/bbs-3.17-bioc/R/bin/R CMD build --keep-empty-dirs --no-resave-data profileScoreDist StartedAt: 2023-10-15 18:01:30 -0400 (Sun, 15 Oct 2023) EndedAt: 2023-10-15 18:01:50 -0400 (Sun, 15 Oct 2023) EllapsedTime: 20.1 seconds RetCode: 0 Status: OK PackageFile: profileScoreDist_1.28.0.tar.gz PackageFileSize: 187.9 KiB