Package: profileScoreDist Version: 1.28.0 Command: /Library/Frameworks/R.framework/Resources/bin/R CMD build --keep-empty-dirs --no-resave-data profileScoreDist StartedAt: 2023-10-15 20:24:48 -0400 (Sun, 15 Oct 2023) EndedAt: 2023-10-15 20:25:39 -0400 (Sun, 15 Oct 2023) EllapsedTime: 50.5 seconds RetCode: 0 Status: OK PackageFile: profileScoreDist_1.28.0.tar.gz PackageFileSize: 187.6 KiB