Package: profileScoreDist Version: 1.28.0 Command: rm -rf profileScoreDist.buildbin-libdir && mkdir profileScoreDist.buildbin-libdir && /Users/biocbuild/BBS/utils/build-universal.sh profileScoreDist_1.28.0.tar.gz /Library/Frameworks/R.framework/Resources/bin/R profileScoreDist.buildbin-libdir StartedAt: 2023-10-16 09:57:21 -0400 (Mon, 16 Oct 2023) EndedAt: 2023-10-16 09:58:12 -0400 (Mon, 16 Oct 2023) EllapsedTime: 50.9 seconds RetCode: 0 Status: OK PackageFile: profileScoreDist_1.28.0.tgz PackageFileSize: 353.8 KiB