Package: proDA Version: 1.14.0 Command: /home/biocbuild/bbs-3.17-bioc/R/bin/R CMD build --keep-empty-dirs --no-resave-data proDA StartedAt: 2023-10-15 18:00:58 -0400 (Sun, 15 Oct 2023) EndedAt: 2023-10-15 18:02:13 -0400 (Sun, 15 Oct 2023) EllapsedTime: 75.2 seconds RetCode: 0 Status: OK PackageFile: proDA_1.14.0.tar.gz PackageFileSize: 1.216 MiB