Package: proBAMr Version: 1.34.0 Command: /home/biocbuild/bbs-3.17-bioc/R/bin/R CMD build --keep-empty-dirs --no-resave-data proBAMr StartedAt: 2023-10-15 18:00:41 -0400 (Sun, 15 Oct 2023) EndedAt: 2023-10-15 18:01:46 -0400 (Sun, 15 Oct 2023) EllapsedTime: 65.4 seconds RetCode: 0 Status: OK PackageFile: proBAMr_1.34.0.tar.gz PackageFileSize: 813.9 KiB