Package: preprocessCore Version: 1.62.1 Command: chmod a+r preprocessCore -R && F:\biocbuild\bbs-3.17-bioc\R\bin\R.exe CMD build --keep-empty-dirs --no-resave-data preprocessCore StartedAt: 2023-10-15 21:26:53 -0400 (Sun, 15 Oct 2023) EndedAt: 2023-10-15 21:26:57 -0400 (Sun, 15 Oct 2023) EllapsedTime: 4.0 seconds RetCode: 0 Status: OK PackageFile: preprocessCore_1.62.1.tar.gz PackageFileSize: 121 KiB