Package: preprocessCore Version: 1.62.1 Command: rm -rf preprocessCore.buildbin-libdir && mkdir preprocessCore.buildbin-libdir && F:\biocbuild\bbs-3.17-bioc\R\bin\R.exe CMD INSTALL --build --library=preprocessCore.buildbin-libdir preprocessCore_1.62.1.tar.gz StartedAt: 2023-10-16 09:17:04 -0400 (Mon, 16 Oct 2023) EndedAt: 2023-10-16 09:17:22 -0400 (Mon, 16 Oct 2023) EllapsedTime: 17.9 seconds RetCode: 0 Status: OK PackageFile: preprocessCore_1.62.1.zip PackageFileSize: 166.7 KiB