Package: preprocessCore Version: 1.62.1 Command: /home/biocbuild/bbs-3.17-bioc/R/bin/R CMD check --install=check:preprocessCore.install-out.txt --library=/home/biocbuild/bbs-3.17-bioc/R/site-library --timings preprocessCore_1.62.1.tar.gz StartedAt: 2023-10-15 23:59:22 -0400 (Sun, 15 Oct 2023) EndedAt: 2023-10-15 23:59:39 -0400 (Sun, 15 Oct 2023) EllapsedTime: 17.0 seconds RetCode: 0 Status: WARNINGS CheckDir: preprocessCore.Rcheck Warnings: 1