Package: plotGrouper Version: 1.18.0 Command: F:\biocbuild\bbs-3.17-bioc\R\bin\R.exe CMD INSTALL plotGrouper StartedAt: 2023-10-15 16:58:28 -0400 (Sun, 15 Oct 2023) EndedAt: 2023-10-15 16:58:39 -0400 (Sun, 15 Oct 2023) EllapsedTime: 11.0 seconds RetCode: 0 Status: OK