Package: pipeComp Version: 1.10.0 Command: /Library/Frameworks/R.framework/Resources/bin/R CMD INSTALL pipeComp StartedAt: 2023-10-15 16:21:59 -0400 (Sun, 15 Oct 2023) EndedAt: 2023-10-15 16:24:54 -0400 (Sun, 15 Oct 2023) EllapsedTime: 175.0 seconds RetCode: 0 Status: OK