Package: pipeComp Version: 1.10.0 Command: /Library/Frameworks/R.framework/Resources/bin/R CMD build --keep-empty-dirs --no-resave-data pipeComp StartedAt: 2023-10-15 20:18:23 -0400 (Sun, 15 Oct 2023) EndedAt: 2023-10-15 20:22:39 -0400 (Sun, 15 Oct 2023) EllapsedTime: 256.6 seconds RetCode: 0 Status: OK PackageFile: pipeComp_1.10.0.tar.gz PackageFileSize: 3.747 MiB