Package: pipeComp Version: 1.10.0 Command: rm -rf pipeComp.buildbin-libdir && mkdir pipeComp.buildbin-libdir && /Users/biocbuild/BBS/utils/build-universal.sh pipeComp_1.10.0.tar.gz /Library/Frameworks/R.framework/Resources/bin/R pipeComp.buildbin-libdir StartedAt: 2023-10-16 09:55:39 -0400 (Mon, 16 Oct 2023) EndedAt: 2023-10-16 09:58:40 -0400 (Mon, 16 Oct 2023) EllapsedTime: 180.8 seconds RetCode: 0 Status: OK PackageFile: pipeComp_1.10.0.tgz PackageFileSize: 4.227 MiB