Package: phosphonormalizer Version: 1.24.0 Command: /Library/Frameworks/R.framework/Resources/bin/R CMD build --keep-empty-dirs --no-resave-data phosphonormalizer StartedAt: 2023-10-15 20:16:55 -0400 (Sun, 15 Oct 2023) EndedAt: 2023-10-15 20:17:26 -0400 (Sun, 15 Oct 2023) EllapsedTime: 30.6 seconds RetCode: 0 Status: OK PackageFile: phosphonormalizer_1.24.0.tar.gz PackageFileSize: 2.688 MiB