Package: pepXMLTab Version: 1.34.0 Command: chmod a+r pepXMLTab -R && F:\biocbuild\bbs-3.17-bioc\R\bin\R.exe CMD build --keep-empty-dirs --no-resave-data pepXMLTab StartedAt: 2023-10-15 21:18:08 -0400 (Sun, 15 Oct 2023) EndedAt: 2023-10-15 21:18:21 -0400 (Sun, 15 Oct 2023) EllapsedTime: 13.0 seconds RetCode: 0 Status: OK PackageFile: pepXMLTab_1.34.0.tar.gz PackageFileSize: 188.2 KiB