Package: pathRender Version: 1.68.0 Command: /home/biocbuild/bbs-3.17-bioc/R/bin/R CMD build --keep-empty-dirs --no-resave-data pathRender StartedAt: 2023-10-15 17:53:34 -0400 (Sun, 15 Oct 2023) EndedAt: 2023-10-15 17:54:32 -0400 (Sun, 15 Oct 2023) EllapsedTime: 57.7 seconds RetCode: 0 Status: OK PackageFile: pathRender_1.68.0.tar.gz PackageFileSize: 147 KiB