Package: panelcn.mops Version: 1.22.0 Command: /home/biocbuild/bbs-3.17-bioc/R/bin/R CMD build --keep-empty-dirs --no-resave-data panelcn.mops StartedAt: 2023-10-15 17:51:30 -0400 (Sun, 15 Oct 2023) EndedAt: 2023-10-15 17:52:39 -0400 (Sun, 15 Oct 2023) EllapsedTime: 68.1 seconds RetCode: 0 Status: OK PackageFile: panelcn.mops_1.22.0.tar.gz PackageFileSize: 567.4 KiB