Package: pandaR Version: 1.32.0 Command: /home/biocbuild/bbs-3.17-bioc/R/bin/R CMD build --keep-empty-dirs --no-resave-data pandaR StartedAt: 2023-10-15 17:51:20 -0400 (Sun, 15 Oct 2023) EndedAt: 2023-10-15 17:52:48 -0400 (Sun, 15 Oct 2023) EllapsedTime: 87.8 seconds RetCode: 0 Status: OK PackageFile: pandaR_1.32.0.tar.gz PackageFileSize: 8.675 MiB