Package: paircompviz Version: 1.38.0 Command: /home/biocbuild/bbs-3.17-bioc/R/bin/R CMD INSTALL paircompviz StartedAt: 2023-10-15 15:10:34 -0400 (Sun, 15 Oct 2023) EndedAt: 2023-10-15 15:10:48 -0400 (Sun, 15 Oct 2023) EllapsedTime: 14.2 seconds RetCode: 0 Status: OK