Package: paircompviz Version: 1.38.0 Command: /home/biocbuild/bbs-3.17-bioc/R/bin/R CMD build --keep-empty-dirs --no-resave-data paircompviz StartedAt: 2023-10-15 17:50:24 -0400 (Sun, 15 Oct 2023) EndedAt: 2023-10-15 17:50:58 -0400 (Sun, 15 Oct 2023) EllapsedTime: 33.4 seconds RetCode: 0 Status: OK PackageFile: paircompviz_1.38.0.tar.gz PackageFileSize: 354 KiB