Package: pRoloc Version: 1.40.1 Command: /home/biocbuild/bbs-3.17-bioc/R/bin/R CMD build --keep-empty-dirs --no-resave-data pRoloc StartedAt: 2023-10-15 18:01:42 -0400 (Sun, 15 Oct 2023) EndedAt: 2023-10-15 18:06:16 -0400 (Sun, 15 Oct 2023) EllapsedTime: 274.3 seconds RetCode: 0 Status: OK PackageFile: pRoloc_1.40.1.tar.gz PackageFileSize: 9.606 MiB