Package: ompBAM Version: 1.4.0 Command: /home/biocbuild/bbs-3.17-bioc/R/bin/R CMD build --keep-empty-dirs --no-resave-data ompBAM StartedAt: 2023-10-15 17:44:22 -0400 (Sun, 15 Oct 2023) EndedAt: 2023-10-15 17:44:43 -0400 (Sun, 15 Oct 2023) EllapsedTime: 21.0 seconds RetCode: 0 Status: OK PackageFile: ompBAM_1.4.0.tar.gz PackageFileSize: 3.142 MiB