Package: omicsViewer Version: 1.4.0 Command: /home/biocbuild/bbs-3.17-bioc/R/bin/R CMD INSTALL omicsViewer StartedAt: 2023-10-15 15:46:31 -0400 (Sun, 15 Oct 2023) EndedAt: 2023-10-15 15:47:01 -0400 (Sun, 15 Oct 2023) EllapsedTime: 30.4 seconds RetCode: 0 Status: OK