Package: omicsViewer Version: 1.4.0 Command: /Library/Frameworks/R.framework/Resources/bin/R CMD build --keep-empty-dirs --no-resave-data omicsViewer StartedAt: 2023-10-15 19:59:49 -0400 (Sun, 15 Oct 2023) EndedAt: 2023-10-15 20:01:44 -0400 (Sun, 15 Oct 2023) EllapsedTime: 115.5 seconds RetCode: 0 Status: OK PackageFile: omicsViewer_1.4.0.tar.gz PackageFileSize: 4.317 MiB