Package: omicplotR Version: 1.20.0 Command: /Library/Frameworks/R.framework/Resources/bin/R CMD check --install=check:omicplotR.install-out.txt --library=/Library/Frameworks/R.framework/Resources/library --no-vignettes --timings omicplotR_1.20.0.tar.gz StartedAt: 2023-10-16 04:47:15 -0400 (Mon, 16 Oct 2023) EndedAt: 2023-10-16 04:51:08 -0400 (Mon, 16 Oct 2023) EllapsedTime: 232.5 seconds RetCode: 0 Status: OK CheckDir: omicplotR.Rcheck Warnings: 0