Package: oligoClasses Version: 1.62.0 Command: /home/biocbuild/bbs-3.17-bioc/R/bin/R CMD build --keep-empty-dirs --no-resave-data oligoClasses StartedAt: 2023-10-15 17:43:14 -0400 (Sun, 15 Oct 2023) EndedAt: 2023-10-15 17:43:15 -0400 (Sun, 15 Oct 2023) EllapsedTime: 1.0 seconds RetCode: 0 Status: OK PackageFile: oligoClasses_1.62.0.tar.gz PackageFileSize: 364.6 KiB