Package: nucleoSim Version: 1.28.0 Command: /home/biocbuild/bbs-3.17-bioc/R/bin/R CMD build --keep-empty-dirs --no-resave-data nucleoSim StartedAt: 2023-10-15 17:42:14 -0400 (Sun, 15 Oct 2023) EndedAt: 2023-10-15 17:42:26 -0400 (Sun, 15 Oct 2023) EllapsedTime: 11.9 seconds RetCode: 0 Status: OK PackageFile: nucleoSim_1.28.0.tar.gz PackageFileSize: 433.7 KiB