Package: netboxr Version: 1.12.0 Command: /Library/Frameworks/R.framework/Resources/bin/R CMD INSTALL netboxr StartedAt: 2023-10-15 16:05:44 -0400 (Sun, 15 Oct 2023) EndedAt: 2023-10-15 16:07:03 -0400 (Sun, 15 Oct 2023) EllapsedTime: 79.0 seconds RetCode: 0 Status: OK