Package: netboxr Version: 1.12.0 Command: /Library/Frameworks/R.framework/Resources/bin/R CMD build --keep-empty-dirs --no-resave-data netboxr StartedAt: 2023-10-15 19:52:39 -0400 (Sun, 15 Oct 2023) EndedAt: 2023-10-15 19:56:43 -0400 (Sun, 15 Oct 2023) EllapsedTime: 243.6 seconds RetCode: 0 Status: OK PackageFile: netboxr_1.12.0.tar.gz PackageFileSize: 2.347 MiB