Package: netboost Version: 2.8.0 Command: /home/biocbuild/bbs-3.17-bioc/R/bin/R CMD check --install=check:netboost.install-out.txt --library=/home/biocbuild/bbs-3.17-bioc/R/site-library --timings netboost_2.8.0.tar.gz StartedAt: 2023-10-15 23:16:46 -0400 (Sun, 15 Oct 2023) EndedAt: 2023-10-15 23:19:58 -0400 (Sun, 15 Oct 2023) EllapsedTime: 191.9 seconds RetCode: 0 Status: OK CheckDir: netboost.Rcheck Warnings: 0