Package: netOmics Version: 1.6.0 Command: /home/biocbuild/bbs-3.17-bioc/R/bin/R CMD build --keep-empty-dirs --no-resave-data netOmics StartedAt: 2023-10-15 17:39:08 -0400 (Sun, 15 Oct 2023) EndedAt: 2023-10-15 17:40:49 -0400 (Sun, 15 Oct 2023) EllapsedTime: 101.9 seconds RetCode: 0 Status: OK PackageFile: netOmics_1.6.0.tar.gz PackageFileSize: 2.091 MiB