Package: netDx Version: 1.12.0 Command: /home/biocbuild/bbs-3.17-bioc/R/bin/R CMD build --keep-empty-dirs --no-resave-data netDx StartedAt: 2023-10-15 17:38:41 -0400 (Sun, 15 Oct 2023) EndedAt: 2023-10-15 18:00:18 -0400 (Sun, 15 Oct 2023) EllapsedTime: 1297.3 seconds RetCode: 0 Status: OK PackageFile: netDx_1.12.0.tar.gz PackageFileSize: 3.406 MiB