Package: ndexr Version: 1.22.0 Command: /home/biocbuild/bbs-3.17-bioc/R/bin/R CMD build --keep-empty-dirs --no-resave-data ndexr StartedAt: 2023-10-15 17:38:20 -0400 (Sun, 15 Oct 2023) EndedAt: 2023-10-15 17:38:31 -0400 (Sun, 15 Oct 2023) EllapsedTime: 11.2 seconds RetCode: 0 Status: OK PackageFile: ndexr_1.22.0.tar.gz PackageFileSize: 946.9 KiB