Package: myvariant Version: 1.30.0 Command: /home/biocbuild/bbs-3.17-bioc/R/bin/R CMD INSTALL myvariant StartedAt: 2023-10-15 15:27:59 -0400 (Sun, 15 Oct 2023) EndedAt: 2023-10-15 15:28:40 -0400 (Sun, 15 Oct 2023) EllapsedTime: 41.4 seconds RetCode: 0 Status: OK