Package: multicrispr Version: 1.10.1 Command: /Library/Frameworks/R.framework/Resources/bin/R CMD build --keep-empty-dirs --no-resave-data multicrispr StartedAt: 2023-10-15 19:47:03 -0400 (Sun, 15 Oct 2023) EndedAt: 2023-10-15 19:50:38 -0400 (Sun, 15 Oct 2023) EllapsedTime: 215.2 seconds RetCode: 0 Status: OK PackageFile: multicrispr_1.10.1.tar.gz PackageFileSize: 2.485 MiB