Package: multicrispr Version: 1.10.1 Command: rm -rf multicrispr.buildbin-libdir && mkdir multicrispr.buildbin-libdir && /Users/biocbuild/BBS/utils/build-universal.sh multicrispr_1.10.1.tar.gz /Library/Frameworks/R.framework/Resources/bin/R multicrispr.buildbin-libdir StartedAt: 2023-10-16 09:48:06 -0400 (Mon, 16 Oct 2023) EndedAt: 2023-10-16 09:49:59 -0400 (Mon, 16 Oct 2023) EllapsedTime: 113.8 seconds RetCode: 0 Status: OK PackageFile: multicrispr_1.10.1.tgz PackageFileSize: 2.607 MiB