Package: multiOmicsViz Version: 1.24.0 Command: /Library/Frameworks/R.framework/Resources/bin/R CMD INSTALL multiOmicsViz StartedAt: 2023-10-15 15:18:24 -0400 (Sun, 15 Oct 2023) EndedAt: 2023-10-15 15:19:23 -0400 (Sun, 15 Oct 2023) EllapsedTime: 58.2 seconds RetCode: 0 Status: OK