Package: multiHiCcompare Version: 1.18.1 Command: /home/biocbuild/bbs-3.17-bioc/R/bin/R CMD INSTALL multiHiCcompare StartedAt: 2023-10-15 15:17:01 -0400 (Sun, 15 Oct 2023) EndedAt: 2023-10-15 15:17:27 -0400 (Sun, 15 Oct 2023) EllapsedTime: 26.0 seconds RetCode: 0 Status: OK