Package: multiHiCcompare Version: 1.18.1 Command: rm -rf multiHiCcompare.buildbin-libdir && mkdir multiHiCcompare.buildbin-libdir && /Users/biocbuild/BBS/utils/build-universal.sh multiHiCcompare_1.18.1.tar.gz /Library/Frameworks/R.framework/Resources/bin/R multiHiCcompare.buildbin-libdir StartedAt: 2023-10-16 09:48:11 -0400 (Mon, 16 Oct 2023) EndedAt: 2023-10-16 09:49:46 -0400 (Mon, 16 Oct 2023) EllapsedTime: 95.0 seconds RetCode: 0 Status: OK PackageFile: multiHiCcompare_1.18.1.tgz PackageFileSize: 5.249 MiB