Package: midasHLA Version: 1.8.0 Command: /home/biocbuild/bbs-3.17-bioc/R/bin/R CMD build --keep-empty-dirs --no-resave-data midasHLA StartedAt: 2023-10-15 17:26:43 -0400 (Sun, 15 Oct 2023) EndedAt: 2023-10-15 17:28:49 -0400 (Sun, 15 Oct 2023) EllapsedTime: 125.7 seconds RetCode: 0 Status: OK PackageFile: midasHLA_1.8.0.tar.gz PackageFileSize: 1.885 MiB