Package: microbiomeDASim Version: 1.14.0 Command: /Library/Frameworks/R.framework/Resources/bin/R CMD build --keep-empty-dirs --no-resave-data microbiomeDASim StartedAt: 2023-10-15 19:29:20 -0400 (Sun, 15 Oct 2023) EndedAt: 2023-10-15 19:31:01 -0400 (Sun, 15 Oct 2023) EllapsedTime: 101.1 seconds RetCode: 0 Status: OK PackageFile: microbiomeDASim_1.14.0.tar.gz PackageFileSize: 1.499 MiB