Package: microSTASIS Version: 1.0.0 Command: /home/biocbuild/bbs-3.17-bioc/R/bin/R CMD build --keep-empty-dirs --no-resave-data microSTASIS StartedAt: 2023-10-15 17:26:42 -0400 (Sun, 15 Oct 2023) EndedAt: 2023-10-15 17:27:48 -0400 (Sun, 15 Oct 2023) EllapsedTime: 66.6 seconds RetCode: 0 Status: OK PackageFile: microSTASIS_1.0.0.tar.gz PackageFileSize: 1.195 MiB