Package: methylInheritance Version: 1.24.0 Command: chmod a+r methylInheritance -R && F:\biocbuild\bbs-3.17-bioc\R\bin\R.exe CMD build --keep-empty-dirs --no-resave-data methylInheritance StartedAt: 2023-10-15 20:21:11 -0400 (Sun, 15 Oct 2023) EndedAt: 2023-10-15 20:22:34 -0400 (Sun, 15 Oct 2023) EllapsedTime: 83.3 seconds RetCode: 0 Status: OK PackageFile: methylInheritance_1.24.0.tar.gz PackageFileSize: 1.671 MiB