Package: methylInheritance Version: 1.24.0 Command: /home/biocbuild/bbs-3.17-bioc/R/bin/R CMD check --install=check:methylInheritance.install-out.txt --library=/home/biocbuild/bbs-3.17-bioc/R/site-library --timings methylInheritance_1.24.0.tar.gz StartedAt: 2023-10-15 22:42:57 -0400 (Sun, 15 Oct 2023) EndedAt: 2023-10-15 22:52:00 -0400 (Sun, 15 Oct 2023) EllapsedTime: 543.3 seconds RetCode: 0 Status: OK CheckDir: methylInheritance.Rcheck Warnings: 0